BEGIN:VCALENDAR
VERSION:2.0
PRODID:-//Kingdom Christian Church - ECPv6.0.9//NONSGML v1.0//EN
CALSCALE:GREGORIAN
METHOD:PUBLISH
X-WR-CALNAME:Kingdom Christian Church
X-ORIGINAL-URL:https://kingdomchristianchurch.org
X-WR-CALDESC:Events for Kingdom Christian Church
REFRESH-INTERVAL;VALUE=DURATION:PT1H
X-Robots-Tag:noindex
X-PUBLISHED-TTL:PT1H
BEGIN:VTIMEZONE
TZID:UTC
BEGIN:STANDARD
TZOFFSETFROM:+0000
TZOFFSETTO:+0000
TZNAME:UTC
DTSTART:20260101T000000
END:STANDARD
END:VTIMEZONE
BEGIN:VEVENT
DTSTART;TZID=UTC:20260131T110000
DTEND;TZID=UTC:20260131T130000
DTSTAMP:20260422T182037
CREATED:20260111T111016Z
LAST-MODIFIED:20260111T111016Z
UID:10402-1769857200-1769864400@kingdomchristianchurch.org
SUMMARY:Grace House Vision Board Party
DESCRIPTION:Ladies Ages 18 – 29! \nMark your calendars for the Grace House’s Annual Vision Board Party on Saturday\, January 31st! \nWe are excited about dreaming big and fellowshipping with the vision for 2026! \nBring your boards\, your favorite pictures\, and your biggest God-sized ideas. This is the year of marvelous things—let’s plan for it! \nNow\, that’s a good idea! \n  \nRegister Today
URL:https://kingdomchristianchurch.org/event/grace-house-vision-board-party/
LOCATION:The Grace House\, 5800 Freedom Dr\, Charlotte\, NC\, 28214\, United States
ATTACH;FMTTYPE=image/png:https://kingdomchristianchurch.org/wp-content/uploads/2026/01/unnamed-5.png
END:VEVENT
END:VCALENDAR