BEGIN:VCALENDAR
VERSION:2.0
PRODID:-//Kingdom Christian Church - ECPv6.0.9//NONSGML v1.0//EN
CALSCALE:GREGORIAN
METHOD:PUBLISH
X-WR-CALNAME:Kingdom Christian Church
X-ORIGINAL-URL:https://kingdomchristianchurch.org
X-WR-CALDESC:Events for Kingdom Christian Church
REFRESH-INTERVAL;VALUE=DURATION:PT1H
X-Robots-Tag:noindex
X-PUBLISHED-TTL:PT1H
BEGIN:VTIMEZONE
TZID:UTC
BEGIN:STANDARD
TZOFFSETFROM:+0000
TZOFFSETTO:+0000
TZNAME:UTC
DTSTART:20260101T000000
END:STANDARD
END:VTIMEZONE
BEGIN:VEVENT
DTSTART;VALUE=DATE:20260125
DTEND;VALUE=DATE:20260131
DTSTAMP:20260422T232453
CREATED:20231211T183258Z
LAST-MODIFIED:20251222T044951Z
UID:6797-1769299200-1769817599@kingdomchristianchurch.org
SUMMARY:Kingdom Vision and Leadership Conference
DESCRIPTION:Calling All Pastors\, Business owners\, Those From the Corporate Sector and Ministry Workers and Leaders. Join Pastor\, Host and Author\, Dr. Gabriel Rogers\, for Kingdom Vision and Leadership Conference 2026! “That’s A Good Idea” January 25\,  28-30th\, 2026! \n  \nRegister Today
URL:https://kingdomchristianchurch.org/event/kingdom-vision-and-leadership-conference/
LOCATION:NC
ATTACH;FMTTYPE=image/png:https://kingdomchristianchurch.org/wp-content/uploads/2023/12/Vision-and-Leadership-Conference-flyer-2026-v2-final.png
END:VEVENT
BEGIN:VEVENT
DTSTART;VALUE=DATE:20260128
DTEND;VALUE=DATE:20260131
DTSTAMP:20260422T232453
CREATED:20260111T110244Z
LAST-MODIFIED:20260111T110618Z
UID:10396-1769558400-1769817599@kingdomchristianchurch.org
SUMMARY:Kingdom Shark Tank
DESCRIPTION:Calling All Inventors\, Innovators\, and Entrepreneurs! \nDo you have a kingdom-minded business concept that you want to launch? Join the Kingdom Shark Tank competition during Kingdom and Vision Leadership Conference 2026! \nThis is YOUR opportunity to win $1000 dollars to support your kingdom concept!! Each contender will have 2 minutes to pitch their business idea between Wednesday\, January 28th\, and Thursday\, January 29th. Judges will have up to 5 minutes for questions after your pitch. \nIf you are interested in pitching your business\, apply today using the button below! \nApply Today
URL:https://kingdomchristianchurch.org/event/kingdom-shark-tank/
LOCATION:Kingdom Christian Church\, 5832 Freedom Drive\, Charlotte\, NC\, 28214\, United States
ATTACH;FMTTYPE=image/png:https://kingdomchristianchurch.org/wp-content/uploads/2026/01/unnamed-1.png
END:VEVENT
END:VCALENDAR